BEGIN:VCALENDAR
PRODID:-//Microsoft Corporation//Outlook 16.0 MIMEDIR//EN
VERSION:2.0
METHOD:PUBLISH
X-MS-OLK-FORCEINSPECTOROPEN:TRUE
BEGIN:VTIMEZONE
TZID:Romance Standard Time
BEGIN:STANDARD
DTSTART:16011028T030000
RRULE:FREQ=YEARLY;BYDAY=-1SU;BYMONTH=10
TZOFFSETFROM:+0200
TZOFFSETTO:+0100
END:STANDARD
BEGIN:DAYLIGHT
DTSTART:16010325T020000
RRULE:FREQ=YEARLY;BYDAY=-1SU;BYMONTH=3
TZOFFSETFROM:+0100
TZOFFSETTO:+0200
END:DAYLIGHT
END:VTIMEZONE
BEGIN:VEVENT
CLASS:PUBLIC
CREATED:20260323T164607Z
DESCRIPTION:Nous aurons le plaisir de vous retrouver pour la 18ᵉ édition
	 des Rendez-vous du Management\, qui marquera cette année les 20 ans de c
	es rencontres entre dirigeants.\n\nRendez-vous pour une journée d’écha
	nges et de réflexion\, dans un cadre propice à la prise de recul :\n
	 24 septembre 2026\n📍 Paris – Péniche L’Olivia <https://www.f
	abrique-evenementielle.fr/olivia> \n\nNous sommes ravis de vous accueillir
	 à bord pour partager ce moment entre dirigeants.\n\nLe programme détail
	lé vous sera communiqué prochainement.\n\nA bientôt\,\nL’équipe Quat
	ernaire\n\n
DTEND;TZID="Romance Standard Time":20260924T173000
DTSTAMP:20260323T164607Z
DTSTART;TZID="Romance Standard Time":20260924T090000
LAST-MODIFIED:20260323T164607Z
LOCATION:L'Olivia (12 Quai de la Rapée\, 75012 Paris Île-de-France\, Fran
	ce)
PRIORITY:5
SEQUENCE:0
SUMMARY;LANGUAGE=fr:Les Rendez-vous du Management - 18e édition - Paris
TRANSP:OPAQUE
UID:040000008200E00074C5B7101A82E008000000003C5525D8E3BADC01000000000000000
	0100000007BB7A3675B2CC647BA95917A74866398
X-ALT-DESC;FMTTYPE=text/html:<div style="font-family: Aptos\, Aptos_Embedde
	dFont\, Aptos_MSFontService\, Calibri\, Helvetica\, sans-serif\; font-size
	: 12pt\; color: rgb(0\, 0\, 0)\;">Nous aurons le plaisir de vous retrouver
	 pour la 18ᵉ édition des Rendez-vous du Management\, qui marquera cette
	 année les 20 ans de ces rencontres entre dirigeants.</div><div style="fo
	nt-family: Aptos\, Aptos_EmbeddedFont\, Aptos_MSFontService\, Calibri\, He
	lvetica\, sans-serif\; font-size: 12pt\; color: rgb(0\, 0\, 0)\;"><br></di
	v><div style="font-family: Aptos\, Aptos_EmbeddedFont\, Aptos_MSFontServic
	e\, Calibri\, Helvetica\, sans-serif\; font-size: 12pt\; color: rgb(0\, 0\
	, 0)\;" class="elementToProof">Rendez-vous pour une journée d’échanges
	 et de réflexion\, dans un cadre propice à la prise de recul :</div><div
	 style="font-family: Aptos\, Aptos_EmbeddedFont\, Aptos_MSFontService\, Ca
	libri\, Helvetica\, sans-serif\; font-size: 12pt\; color: rgb(0\, 0\, 0)\;
	" class="elementToProof"><b>📅 24 septembre 2026</b></div><div style="
	font-family: Aptos\, Aptos_EmbeddedFont\, Aptos_MSFontService\, Calibri\, 
	Helvetica\, sans-serif\; font-size: 12pt\; color: rgb(0\, 0\, 0)\;" class=
	"elementToProof"><b>📍 <a title="https://www.fabrique-evenementielle.f
	r/olivia" href="https://www.fabrique-evenementielle.fr/olivia">Paris – P
	éniche L’Olivia</a></b></div><div style="font-family: Aptos\, Aptos_Emb
	eddedFont\, Aptos_MSFontService\, Calibri\, Helvetica\, sans-serif\; font-
	size: 12pt\; color: rgb(0\, 0\, 0)\;" class="elementToProof"><br></div><di
	v style="font-family: Aptos\, Aptos_EmbeddedFont\, Aptos_MSFontService\, C
	alibri\, Helvetica\, sans-serif\; font-size: 12pt\; color: rgb(0\, 0\, 0)\
	;" class="elementToProof">Nous sommes ravis de vous accueillir à bord pou
	r partager ce moment entre dirigeants.</div><div style="font-family: Aptos
	\, Aptos_EmbeddedFont\, Aptos_MSFontService\, Calibri\, Helvetica\, sans-s
	erif\; font-size: 12pt\; color: rgb(0\, 0\, 0)\;" class="elementToProof"><
	br></div><div style="font-family: Aptos\, Aptos_EmbeddedFont\, Aptos_MSFon
	tService\, Calibri\, Helvetica\, sans-serif\; font-size: 12pt\; color: rgb
	(0\, 0\, 0)\;" class="elementToProof">Le programme détaillé vous sera co
	mmuniqué prochainement.</div><div style="font-family: Aptos\, Aptos_Embed
	dedFont\, Aptos_MSFontService\, Calibri\, Helvetica\, sans-serif\; font-si
	ze: 12pt\; color: rgb(0\, 0\, 0)\;" class="elementToProof"><br></div><div 
	style="font-family: Aptos\, Aptos_EmbeddedFont\, Aptos_MSFontService\, Cal
	ibri\, Helvetica\, sans-serif\; font-size: 12pt\; color: rgb(0\, 0\, 0)\;"
	 class="elementToProof">A bientôt\,</div><div style="font-family: Aptos\,
	 Aptos_EmbeddedFont\, Aptos_MSFontService\, Calibri\, Helvetica\, sans-ser
	if\; font-size: 12pt\; color: rgb(0\, 0\, 0)\;" class="elementToProof">L
	’équipe Quaternaire</div><div style="font-family: Aptos\, Aptos_Embedde
	dFont\, Aptos_MSFontService\, Calibri\, Helvetica\, sans-serif\; font-size
	: 12pt\; color: rgb(0\, 0\, 0)\;"><br></div>
X-MICROSOFT-CDO-BUSYSTATUS:BUSY
X-MICROSOFT-CDO-IMPORTANCE:1
BEGIN:VALARM
TRIGGER:-PT15M
ACTION:DISPLAY
DESCRIPTION:Reminder
END:VALARM
END:VEVENT
END:VCALENDAR
